BEGIN:VCALENDAR
VERSION:2.0
PRODID:-//The NCC Netherlands - ECPv6.15.20//NONSGML v1.0//EN
CALSCALE:GREGORIAN
METHOD:PUBLISH
X-ORIGINAL-URL:https://eurocc-netherlands.nl
X-WR-CALDESC:Events for The NCC Netherlands
REFRESH-INTERVAL;VALUE=DURATION:PT1H
X-Robots-Tag:noindex
X-PUBLISHED-TTL:PT1H
BEGIN:VTIMEZONE
TZID:UTC
BEGIN:STANDARD
TZOFFSETFROM:+0000
TZOFFSETTO:+0000
TZNAME:UTC
DTSTART:20220101T000000
END:STANDARD
END:VTIMEZONE
BEGIN:VTIMEZONE
TZID:Europe/Amsterdam
BEGIN:DAYLIGHT
TZOFFSETFROM:+0100
TZOFFSETTO:+0200
TZNAME:CEST
DTSTART:20220327T010000
END:DAYLIGHT
BEGIN:STANDARD
TZOFFSETFROM:+0200
TZOFFSETTO:+0100
TZNAME:CET
DTSTART:20221030T010000
END:STANDARD
BEGIN:DAYLIGHT
TZOFFSETFROM:+0100
TZOFFSETTO:+0200
TZNAME:CEST
DTSTART:20230326T010000
END:DAYLIGHT
BEGIN:STANDARD
TZOFFSETFROM:+0200
TZOFFSETTO:+0100
TZNAME:CET
DTSTART:20231029T010000
END:STANDARD
BEGIN:DAYLIGHT
TZOFFSETFROM:+0100
TZOFFSETTO:+0200
TZNAME:CEST
DTSTART:20240331T010000
END:DAYLIGHT
BEGIN:STANDARD
TZOFFSETFROM:+0200
TZOFFSETTO:+0100
TZNAME:CET
DTSTART:20241027T010000
END:STANDARD
END:VTIMEZONE
BEGIN:VTIMEZONE
TZID:Europe/Moscow
BEGIN:STANDARD
TZOFFSETFROM:+0300
TZOFFSETTO:+0300
TZNAME:MSK
DTSTART:20220101T000000
END:STANDARD
END:VTIMEZONE
BEGIN:VTIMEZONE
TZID:America/New_York
BEGIN:DAYLIGHT
TZOFFSETFROM:-0500
TZOFFSETTO:-0400
TZNAME:EDT
DTSTART:20220313T070000
END:DAYLIGHT
BEGIN:STANDARD
TZOFFSETFROM:-0400
TZOFFSETTO:-0500
TZNAME:EST
DTSTART:20221106T060000
END:STANDARD
BEGIN:DAYLIGHT
TZOFFSETFROM:-0500
TZOFFSETTO:-0400
TZNAME:EDT
DTSTART:20230312T070000
END:DAYLIGHT
BEGIN:STANDARD
TZOFFSETFROM:-0400
TZOFFSETTO:-0500
TZNAME:EST
DTSTART:20231105T060000
END:STANDARD
BEGIN:DAYLIGHT
TZOFFSETFROM:-0500
TZOFFSETTO:-0400
TZNAME:EDT
DTSTART:20240310T070000
END:DAYLIGHT
BEGIN:STANDARD
TZOFFSETFROM:-0400
TZOFFSETTO:-0500
TZNAME:EST
DTSTART:20241103T060000
END:STANDARD
END:VTIMEZONE
BEGIN:VEVENT
DTSTART;VALUE=DATE:20230608
DTEND;VALUE=DATE:20230610
DTSTAMP:20260423T053850
CREATED:20230530T143021Z
LAST-MODIFIED:20230530T143021Z
UID:421-1686182400-1686355199@eurocc-netherlands.nl
SUMMARY:Course Basic Parallel Programming with MPI and OpenMP
DESCRIPTION:This 2-day basic course is focused on providing an introduction to parallel programming using the most widely used approaches: Message Passing Interface (MPI) and Open Multi-Processing (OpenMP). \n\n\n\n\n\nYou will start exploring the benefits (and limitations) of parallel programming\, and then you will explore the possibilities that task and data parallelism offer to develop multi-core and multi-node programs. Each session includes hands-on exercises to facilitate the understanding of the different constructs. As a participant\, you have already some familiarity with C or Fortran programming\, and in these two days you will be able to start the development of your own parallel application. \nRequirements\n\nBasic knowledge of one programming language among C\, Fortran or Python\nBasic knowledge of the operating system Linux\n\nPart of the materials from this course are kindly provided by the collaboration between PRACE and HLRS. \nAdvanced course\nRight after this short course you will have the opportunity to continue exploring advanced topics on parallel programming and everyday use of MPI/OpenMP. For this you’ll also need to register for the following advanced course. \n\nSign up
URL:https://eurocc-netherlands.nl/calendar/course-basic-parallel-programming-with-mpi-and-openmp/
LOCATION:Online
CATEGORIES:Training
ATTACH;FMTTYPE=image/png:https://eurocc-netherlands.nl/wp-content/uploads/2023/05/Course-Basic-Parallel-Programming-with-MPI-and-OpenMP.png
END:VEVENT
BEGIN:VEVENT
DTSTART;TZID=Europe/Amsterdam:20230606T090000
DTEND;TZID=Europe/Amsterdam:20230606T123000
DTSTAMP:20260423T053850
CREATED:20230501T142929Z
LAST-MODIFIED:20230501T142929Z
UID:409-1686042000-1686054600@eurocc-netherlands.nl
SUMMARY:Introduction to supercomputing
DESCRIPTION:When you need to perform many calculations\, or analyses that are too large for your own system\, clusters and supercomputers provide the computing power you need. In this course\, you will learn to work with the national supercomputer Snellius and the national computing cluster Lisa. \n  \n\n\n\nWhat will you learn in this training?\nIn this training you will do practical exercises to learn how to effectively use the national computing cluster Lisa and the national supercomputer Snellius and how to complete your tasks with minimal effort in the shortest possible time. \nFor whom?\nAnyone who wants to know how to perform massive computing tasks.\nThe language of instruction is English. \nPrerequisites\nBasic knowledge of Unix shell is helpful. \n\n\n\n\nSign up for free
URL:https://eurocc-netherlands.nl/calendar/introduction-to-supercomputing-3/
LOCATION:Online
CATEGORIES:Training
ATTACH;FMTTYPE=image/jpeg:https://eurocc-netherlands.nl/wp-content/uploads/2023/05/6-june_introduction-to-supercomputing.jpeg
END:VEVENT
BEGIN:VEVENT
DTSTART;TZID=UTC:20230516T093000
DTEND;TZID=UTC:20230516T170000
DTSTAMP:20260423T053850
CREATED:20230425T132003Z
LAST-MODIFIED:20230425T132540Z
UID:393-1684229400-1684256400@eurocc-netherlands.nl
SUMMARY:Machine Learning on HPC systems (1 day)
DESCRIPTION:You want to train a neural network for your research project\, and have just gotten access to a high performance cluster with a lot of powerful hardware. Great! But\, how can you make sure that you’ll use these (expensive!) resources effectively? In this course\, you will learn how to get the most results out of the computational budget you were granted. \n  \n\n\n\nIn this course you will learn:\n\nHow to set up your software environment\, and why the preinstalled software modules are useful;\nHow the file I/O might limit your training speed\, and how to overcome that;\nAbout the technical capabilities of modern day CPUs and GPUs (reduced precision datatypes\, vector/matrix instructions);\nHow to find bottlenecks in your code through creating a (PyTorch) profile;\nHow to use multiple CPUs or GPUs in a single training (parallel computing for deep learning).\n\nWho?\nMachine Learning researchers whose requirements for training their neural networks have outgrown their local computer\, and are using or planning to use a high performance computing cluster (such as Snellius) to train their models. \nPrerequisites\n\nBasic knowledge in PyTorch\, TensorFlow or a similar framework;\nBasic knowledge on Python programming. Some experience in using Jupyter notebooks is desireable\, but not essential;\nBasic knowledge in using a high performance computing cluster (see our course ‘Introduction to cluster and supercomputing);\nSpecifically: know how to submit a job\, and how to interact with the module environment.\n\n\n\n\nSign up: https://events.surf.nl/kort4/open/8e6e2802-7165-479f-ae4e-be242555961e  *Please note\, registration closes May 15! 
URL:https://eurocc-netherlands.nl/calendar/machine-learning-on-hpc-systems-1-day/
LOCATION:SURF Amsterdam\, Science Park 140\, Amsterdam\, 1098 XG\, Netherlands
CATEGORIES:Training
ATTACH;FMTTYPE=image/jpeg:https://eurocc-netherlands.nl/wp-content/uploads/2023/04/Machine-Learning-Training-16-may.jpeg
END:VEVENT
BEGIN:VEVENT
DTSTART;TZID=UTC:20230502T080000
DTEND;TZID=UTC:20230505T170000
DTSTAMP:20260423T053850
CREATED:20230411T135540Z
LAST-MODIFIED:20230411T135540Z
UID:385-1683014400-1683306000@eurocc-netherlands.nl
SUMMARY:EuroCC-AMD Workshop: Developing HPC Applications with AMD GPUs
DESCRIPTION:AMD\, in collaboration with CASTIEL-EuroCC\, will be giving a workshop on developing HPC applications for AMD GPUs. The workshop will begin with a developer’s view of the AMD system GPUS and associated hardware. Then it will cover a few different programming options including HIP and OpenMP. There will be some presentations on obtaining the best performance for your application. The workshop will then introduce some of the available AMD profiling and debugging tools. \nThe workshop is open for CASTIEL and EuroCC due to the limited amount of places and it targets application developers with an understanding of recent HPC computing hardware and computing environments. \nNo prior GPU programming experience is necessary. \nThe content will be about 30%/40%/30% Beginner/Intermediate/Advanced. \n  \n  \n2 May 2023Time                     Topic13:00 – 13:15     CASTIEL Intro13:15 – 13:25     AMD Presentation Roadmap13:25 – 13:45     Introduction to the System for Exercises13:45 – 14:00     Introduction to AMD Architecture14:00 – 14:15     Break14:15 – 15:15     Introduction to HIP15:15 – 15:45     HIP Exercises15:45 – 16:00     HIPFort16:00 – 16:15     Break16:15 – 16:40     Porting applications to HIP16:40 – 16:55     Porting exercises16:55 – 17:00     Wrap-up \n3 May 2023Time                    Topic13:00 – 13:50     Getting Started with OpenMP® Offload Applications on AMD Accelerators13:50 – 14:30     OpenMP® exercises14:30 – 14:45     Break14:45 – 15:00     OpenACC15:00 – 16:00     Advanced OpenMP® offloading16:00 – 16:10     Break16:10 – 16:40     Advanced OpenMP® Exercises16:40 – 16:50     Mixing HIP and OpenMP®16:50 – 16:55     Infinity Hub/HPC Community16:55 – 17:00     Wrap-up \n4 May 2023Time                     Topic13:00 – 13:40     Kokkos13:40 – 13:55     Kokkos Exercises13:55 – 14:05     Break14:05 – 14:30     AMD Communication Fabrics and GPU-Aware MPI14:30 – 14:45     GPU Aware Exercises14:45 – 14:55     Break14:55 – 15:35     AMD Node Memory Model15:35 – 15:50     Memory Model Exercises15:50 – 16:00     Break16:00 – 16:40     Affinity — Placement\, Ordering and Binding16:40 – 16:55     Affinity exercises16:55 – 17:00     Wrap-up \n5 May 2023Time                     Topic13:00 – 13:20     Introduction to Rocprof13:20 – 13:35     Rocprof Exercises13:35 – 14:00     Introduction to Omnitrace14:00 – 14:15     Omnitrace Exercises14:15 – 14:25     Break14:25 – 15:25     Roofline15:25 – 15:55     Introduction to Omniperf15:55 – 16:10     Exercises – Omniperf16:10 – 16:20     Break16:20 – 16:55     Debuggers – rocgdb16:55 – 17:00     Wrap-up \nYou need to register in advance for this workshop.Before the event\, you will receive a link from Webex to join the meeting. \n  \nIf you would like to participate in the workshop\, please register in advance by Monday 24 April\, EoD: https://www.eurocc-access.eu/event/eurocc-amd-workshop-developing-hpc-applications-with-amd-gpus/
URL:https://eurocc-netherlands.nl/calendar/eurocc-amd-workshop-developing-hpc-applications-with-amd-gpus/
CATEGORIES:Training
ATTACH;FMTTYPE=image/png:https://eurocc-netherlands.nl/wp-content/uploads/2023/04/AMD-workshop-eurocc.png
END:VEVENT
BEGIN:VEVENT
DTSTART;TZID=Europe/Moscow:20230426T080000
DTEND;TZID=Europe/Moscow:20230428T170000
DTSTAMP:20260423T053850
CREATED:20230320T111656Z
LAST-MODIFIED:20230321T160136Z
UID:291-1682496000-1682701200@eurocc-netherlands.nl
SUMMARY:Spring School in Computational Chemistry
DESCRIPTION:The Spring School provides a comprehensive\, tutorial-style\, hands-on\, introductory and intermediate-level treatment of the essential methods for molecular modeling and computational chemistry using modern supercomputers. During 3 days you will learn more about:* Classical molecular dynamics\, intro + hands on (1 day)* Electronic structure theory\, intro + hands on (1 day)* Machine learning in chemistry\, intro + hands on* Special topics on enhanced sampling techniques and visualizationThe school is a must for graduate students in the field\, providing an overview of “what can be calculated and how should it be done”. It’s also a great opportunity to build your professional network! The intense schedule might also be suitable for an industry representative to get a hands-on introduction to modelling. To get an idea of the depth in which the topics are covered\, take a look at the materials from the 2020 School or a blog entry of the 2019 School.The school has a participation fee of 120 EUR (+ VAT). It covers the lectures\, coffees\, lunches\, poster session snacks\, and the sauna + dinner.The first registration DL is 26th March\, but if seats are free beyond it\, registering will be possible also later.A more detailed description\, with links to previous Schools and registration at:https://ssl.eventilla.com/sscc-2023
URL:https://eurocc-netherlands.nl/calendar/spring-school-in-computational-chemistry/
CATEGORIES:Training
ATTACH;FMTTYPE=image/jpeg:https://eurocc-netherlands.nl/wp-content/uploads/2023/03/Summerschool.jpeg
END:VEVENT
BEGIN:VEVENT
DTSTART;TZID=Europe/Amsterdam:20230421T090000
DTEND;TZID=Europe/Amsterdam:20230421T123000
DTSTAMP:20260423T053850
CREATED:20230413T100812Z
LAST-MODIFIED:20230413T100826Z
UID:388-1682067600-1682080200@eurocc-netherlands.nl
SUMMARY:Introduction to supercomputing
DESCRIPTION:When you need to perform many calculations\, or analyses that are too large for your own system\, clusters and supercomputers provide the computing power you need. In this course\, you will learn to work with the national supercomputer Snellius and the national computing cluster Lisa. \n  \n\n\n\nWhat will you learn in this training?\nIn this training you will do practical exercises to learn how to effectively use the national computing cluster Lisa and the national supercomputer Snellius and how to complete your tasks with minimal effort in the shortest possible time. \nFor whom?\nAnyone who wants to know how to perform massive computing tasks.\nThe language of instruction is English. \nPrerequisites\nBasic knowledge of Unix shell is helpful.
URL:https://eurocc-netherlands.nl/calendar/introduction-to-supercomputing-2/
LOCATION:Online
CATEGORIES:Training
ATTACH;FMTTYPE=image/jpeg:https://eurocc-netherlands.nl/wp-content/uploads/2023/04/Introduction-to-Supercomputing.jpeg
END:VEVENT
BEGIN:VEVENT
DTSTART;TZID=America/New_York:20230330T130000
DTEND;TZID=America/New_York:20230330T150000
DTSTAMP:20260423T053850
CREATED:20230323T123434Z
LAST-MODIFIED:20230323T124304Z
UID:361-1680181200-1680188400@eurocc-netherlands.nl
SUMMARY:Introduction to Portable GPU Programming
DESCRIPTION:Join AMD for an interactive live webinar! \nExperience the power and adaptability of AMD Instinct™ GPUs and ROCm™ software. Discover the ease of porting CUDA code to HIP with our easy to use ‘hipify’ tools that allow you to make your already written code effortlessly portable across AMD Instinct™ accelerators and other GPUs. \nDuring this 60-minute event\, attendees will receive an overview of the AMD Instinct™ M100 and MI200 series accelerators and the ROCm™ compilers\, libraries\, and tools. Attendees will then learn how to hipify existing code and program AMD GPUs with HIP and OpenMP 4.5. Stick around after the presentation for a live Q&A with our ROCm expert\, Joe Schoonover.  Sounds like something you would like to be a part of? \n  \nThursday\, March 30th\, 2023\, 1PM CT \nRegister Now \n 
URL:https://eurocc-netherlands.nl/calendar/introduction-to-portable-gpu-programming/
CATEGORIES:Training
ATTACH;FMTTYPE=image/jpeg:https://eurocc-netherlands.nl/wp-content/uploads/2023/03/AMD-portable-gpu-programming.jpeg
END:VEVENT
BEGIN:VEVENT
DTSTART;TZID=Europe/Amsterdam:20230207T090000
DTEND;TZID=Europe/Amsterdam:20230207T123000
DTSTAMP:20260423T053850
CREATED:20230128T165412Z
LAST-MODIFIED:20230214T092429Z
UID:143-1675760400-1675773000@eurocc-netherlands.nl
SUMMARY:Training: Introduction to supercomputing
DESCRIPTION:When you need to perform many calculations\, or analyses that are too large for your own system\, clusters and supercomputers provide the computing power you need. In this course\, you will learn to work with the national supercomputer Snellius and the national computing cluster Lisa. \nWhen you need to perform many calculations\, or analyses that are too large for your own system\, clusters and supercomputers provide the computing power you need. In this course\, you will learn to work with the national supercomputer Snellius and the national computing cluster Lisa. \nWhat will you learn in this training? \nIn this training you will do practical exercises to learn how to effectively use the national computing cluster Lisa and the national supercomputer Snellius and how to complete your tasks with minimal effort in the shortest possible time. \nFor whom?\nAnyone who wants to know how to perform massive computing tasks.\nThe language of instruction is English. \nPrerequisites\nBasic knowledge of Unix shell is helpful. \nSign up here!
URL:https://eurocc-netherlands.nl/calendar/introduction-to-supercomputing/
LOCATION:Online
CATEGORIES:Training
END:VEVENT
END:VCALENDAR