BEGIN:VCALENDAR
VERSION:2.0
PRODID:-//The NCC Netherlands - ECPv6.15.20//NONSGML v1.0//EN
CALSCALE:GREGORIAN
METHOD:PUBLISH
X-WR-CALNAME:The NCC Netherlands
X-ORIGINAL-URL:https://eurocc-netherlands.nl
X-WR-CALDESC:Events for The NCC Netherlands
REFRESH-INTERVAL;VALUE=DURATION:PT1H
X-Robots-Tag:noindex
X-PUBLISHED-TTL:PT1H
BEGIN:VTIMEZONE
TZID:UTC
BEGIN:STANDARD
TZOFFSETFROM:+0000
TZOFFSETTO:+0000
TZNAME:UTC
DTSTART:20230101T000000
END:STANDARD
END:VTIMEZONE
BEGIN:VEVENT
DTSTART;TZID=UTC:20240610T130000
DTEND;TZID=UTC:20240610T140000
DTSTAMP:20260420T102320
CREATED:20240506T133718Z
LAST-MODIFIED:20240506T133749Z
UID:1967-1718024400-1718028000@eurocc-netherlands.nl
SUMMARY:Harnessing High-Performance Computing for Industrial Innovation
DESCRIPTION:Are you an R&D driven tech company or start up? 🌟 Join us on June 10th for the webinar Driving National Growth: Harnessing High-Performance Computing for Industrial Innovation. \nDuring this webinar we will highlight the transformative power of High-Performance Computing (HPC). Explore practical use cases and strategies for leveraging supercomputing in R&D-driven tech companies. \n📅 Date: June 10\, 2024\n🕓 Time: 13:00 – 14:00 (Online) \n🎙️ We have great speakers lined up for you: \n1️⃣ Dr. Marijn Martens\, Synaptica\n2️⃣ Professor Gábor Závodszky – UvA & Dutch HPC Coalition\n3️⃣ Carlos Teijeiro Barjas\, EuroCC Netherlands \nMarijn Martens will talk about Predicting the functional consequence of ion channel mutations. Understanding the functional consequences of genetic mutations is key for early diagnosis and precision medicine. For only around 2% of potential pathogenic ion channel mutations\, the gain or loss of function effects are known and well quantified. Using these known mutations\, Synaptica has trained a machine learning model of all missense mutations in many of the disease-related ion channels. HPC now allows the simulation of molecular dynamics and 3D structures of the individual mutated protein sequences\, allowing for deep feature extraction. \nUsing this approach\, Synaptica provides predictions on gain or loss of function for ion channel mutations. Synaptica is currently running a clinical proof of concept clinical trial for a familial case of epilepsy. The results are aimed at medical use in clinical trial screening and treatment for channelopathies\, such as epilepsy\, muscle and heart diseases. \nGábor Závodszky will give insights about big simulations (road to exascale). During his talk he will also give examples of an extreme detailed simulation of a heart disease and a large-scale (330+ CPU core) cellular blood flow simulation. On top of that he will also review the energy consumption of these large simulations. And what can we predict how they will look like in an exascale execution and on new CPU architectures (with contribution from Eviden. To wrap up his talk\, he will share how this fits the national landscape and the forming Dutch HPC Coalition. \nCarlos Teijeiro Barjas will be your host and HPC Specialist from EuroCC Netherlands. \nGain valuable insights to elevate your organization’s innovation game. \nRegister now on linkedin
URL:https://eurocc-netherlands.nl/calendar/harnessing-high-performance-computing-for-industrial-innovation/
LOCATION:Webinar
CATEGORIES:Event,Seminar
ATTACH;FMTTYPE=image/png:https://eurocc-netherlands.nl/wp-content/uploads/2024/05/V2_Driving-National-Growth-June-10-2024-1.png
END:VEVENT
BEGIN:VEVENT
DTSTART;VALUE=DATE:20241022
DTEND;VALUE=DATE:20241024
DTSTAMP:20260420T102320
CREATED:20240725T152512Z
LAST-MODIFIED:20240725T152725Z
UID:2244-1729555200-1729727999@eurocc-netherlands.nl
SUMMARY:EuroHPC User Day 2024
DESCRIPTION:Join us for the EuroHPC User Day 2024\, happening in Amsterdam\, Netherlands\, on October 22-23\, 2024. \nHosted by the EuroHPC Joint Undertaking and our EuroCC Netherlands\, this second annual event brings together the EuroHPC user community to: \n\nShowcase EuroHPC projects utilizing European HPC supercomputing resources\nShare best practices in project development\nGather feedback from existing users\nEngage with potential new users\n\nThis event offers European supercomputing users the opportunity to explore a variety of topics\, deepen their understanding of EuroHPC Joint Undertaking opportunities\, and learn about available user support. \nCall for Papers\nEuroHPC JU system users are encouraged to present their work by submitting papers demonstrating the scientific excellence of projects utilizing EuroHPC resources. Selected papers will be presented at the conference and published in the Elsevier Procedia Computer Science EuroHPC User Days 2024 Book of Proceedings. \nSubmission Details: \n\nDeadline: August 15\, 2024\nLength: Maximum of 10 pages\nContent: Description of the experiment\, supercomputing resources used\, linked references\, XML versions\, and citable DOI numbers\nAccessibility: Open Access (CC-BY license)\n\nSubmit your manuscripts here. \nEvent Details\nVenue: Eye Film Museum\, Amsterdam \nSchedule: \n\nTuesday\, October 22:\n\nMorning: Plenary session\nAfternoon: Parallel sessions\nEvening: Drink reception hosted by EuroHPC JU and NCC Netherlands\n\n\nWednesday\, October 23:\n\nMorning: Plenary session\nParallel sessions\nEvent concludes at noon\n\n\n\nRegistration: Register here \nFind the preliminary schedule here. \nDon’t miss this chance to connect with the EuroHPC community and enhance your supercomputing projects!
URL:https://eurocc-netherlands.nl/calendar/eurohpc-user-day-2024/
LOCATION:Eye Museum Amsterdam\, IJpromenade 1\, Amsterdam\, 1031 KT
CATEGORIES:Event
ATTACH;FMTTYPE=image/png:https://eurocc-netherlands.nl/wp-content/uploads/2024/07/Eurohpcuserday2024.png
END:VEVENT
BEGIN:VEVENT
DTSTART;VALUE=DATE:20241212
DTEND;VALUE=DATE:20241213
DTSTAMP:20260420T102320
CREATED:20240725T154810Z
LAST-MODIFIED:20250918T190310Z
UID:2272-1733961600-1734047999@eurocc-netherlands.nl
SUMMARY:Advanced Computing User Day 2024
DESCRIPTION:Advanced computing user day 2025Date: 12 December\, 2024Location: Jaarbeurs\, Utrecht \nSURF and EuroCC Netherlands cordially invite you to the Advanced Computing User Day! On Dec. 12\, Advanced Computing User Day brings together leading experts\, entrepreneurs and users from the advanced computing  community for a day of inspiring talks\, workshops and valuable networking opportunities. \nWhether you are a seasoned professional or just starting out in the world of advanced computing\, Advanced Computing User Day offers you the chance to learn from other users\, gain inspiration\, hear latest developments\, and connect with like-minded professionals from the research and business fields. \nPut the date in your calendar and don’t miss it! Check the programme >  \nMore information about the program and registration will follow soon. Keep an eye on our website and newsletters for updates. \nRegistrate now  \nKeynote  \nCees Snoek \nJoin Professor Cees Snoek at the Advanced Computing User Day 2024 for an engaging keynote exploring the limitations of multimodal foundation models. While these AI models excel in multimedia generation and transfer learning\, they struggle with tasks like spatial grounding\, temporal reasoning\, and aligning with ethical and societal values. Drawing from his groundbreaking research at the University of Amsterdam’s Video & Image Sense Lab\, Snoek will showcase sustainable methods to enhance these models without full retraining. With a prolific career spanning academia and industry\, Snoek brings unparalleled expertise in AI-driven video and image understanding to this thought-provoking session. \nFeatured Speaker  \nThomas Wolf\nJoin Thomas Wolf\, co-founder and Chief Science Officer of Hugging Face\, at PyData Amsterdam for an inspiring talk. A leading advocate for open science\, Thomas has transformed AI accessibility through groundbreaking tools like the Hugging Face Transformers and Datasets libraries. His work bridges academic research and industry\, highlighted by projects like the BigScience Workshop\, which birthed BLOOM\, a large-scale open-source language model. With a Ph.D. in Statistical/Quantum Physics and a unique interdisciplinary approach\, Thomas combines technical expertise with a passion for education. Don’t miss his insights on advancing AI accessibility and overcoming the field’s limitations. \nCheck the programme\nLast Years Advanced Computing User Day\nAfter Movie Advanced Computing User Day 2023 Dive into the essence of the Advanced Computing User Day by watching the after movie – a genuine portrayal of shared experiences\, insights\, and the vibrant community that came together.
URL:https://eurocc-netherlands.nl/calendar/advanced-computing-user-day-2024/
LOCATION:Jaarbeurs\, Utrecht\, Jaarbeursplein 6\, Utrecht\, 3521 AL
CATEGORIES:Event
ATTACH;FMTTYPE=image/png:https://eurocc-netherlands.nl/wp-content/uploads/2024/07/Advanced-Computing-User-Day-2024_website.png
END:VEVENT
BEGIN:VEVENT
DTSTART;TZID=UTC:20251204T080000
DTEND;TZID=UTC:20251204T170000
DTSTAMP:20260420T102320
CREATED:20250919T131004Z
LAST-MODIFIED:20250919T131004Z
UID:3368-1764835200-1764867600@eurocc-netherlands.nl
SUMMARY:ADVANCED COMPUTING USER DAY 2025
DESCRIPTION:Learn from other users\, gain inspiration\, hear latest developments\, and connect with like-minded professionals from the research and business fields. \nRegister hereSURF and EuroCC Netherlands cordially invite you to the Advanced Computing User Day! On 4 december 2025 Advanced Computing User Day brings together leading experts\, entrepreneurs and users from the advanced computing  community for a day of inspiring talks\, workshops and valuable networking opportunities. \nWhether you are a seasoned professional or just starting out in the world of advanced computing\, Advanced Computing User Day offers you the chance to learn from other users\, gain inspiration\, hear latest developments\, and connect with like-minded professionals from the research and business fields. \nRegister and put the date in your calendar and don’t miss it! More information about the programme will follow soon. \nKeep an eye on our website and newsletter for updates.
URL:https://eurocc-netherlands.nl/calendar/advanced-computing-user-day-2025/
LOCATION:Jaarbeurs\, Utrecht\, Jaarbeursplein 6\, Utrecht\, 3521 AL
CATEGORIES:Event
ATTACH;FMTTYPE=image/png:https://eurocc-netherlands.nl/wp-content/uploads/2025/09/ACUD-social-media-templates-v3-algemene-post.png
END:VEVENT
BEGIN:VEVENT
DTSTART;TZID=UTC:20260331T103000
DTEND;TZID=UTC:20260331T160000
DTSTAMP:20260420T102320
CREATED:20260309T174846Z
LAST-MODIFIED:20260309T174846Z
UID:3746-1774953000-1774972800@eurocc-netherlands.nl
SUMMARY:LUMI SmartSim Workshop
DESCRIPTION:You are welcome to join us in 1-day hands-on workshop “LUMI SmartSim”. Using machine learning (ML) within HPC applications offers the advantage that it can improve the overall efficiency of HPC workflows by allowing ML predictions to help guide or replace parts of simulations.  However\, there are challenges in coupling the two approaches as HPC applications are typically written in C\, C++ or Fortran and run on CPUs\, whereas ML frameworks are usually Python based and benefit from being run on GPUs. In this tutorial we will introduce SmartSim\, an open-source framework that has been developed to help address these challenges and allow researchers to easily adapt their traditional HPC workloads to include ML. This is done with a distributed orchestrator\, which allows data to be exchanged between the HPC application and the ML model. \nEvent Info\nDates: 31 March 2026\nTime: 10:30 – 16:00 CEST\nLocation: Room 2.03\, SURF Utrecht\, Kantoren Hoog Overborch (Hoog Catharijne)\, Moreelsepark 48\, 3511 EP Utrecht\nOrganizer: HPE\, LUMI User Support Team (LUST)\, SURF Utrecht \nTarget group\nLUMI users interested in integrating machine learning into existing HPC workflows. \nLearning outcomes\nIn the morning session\, we will consider how ML and HPC applications may be coupled together and then give an overview of SmartSim and show how it can interact with simulation data in HPC applications in order to integrate ML models. We will show real examples of how SmartSim has been used in different fields of research such as Computational Fluid Dynamics and Climate Modelling. We also explain how SmartSim can be integrated within an application and how to deploy the resulting workflow. \nThe afternoon session will take a more hands-on approach where attendees can run examples of hybrid scientific simulation/AI workflows using SmartSim.  Attendees will learn how to launch SmartSim leveraging the system’s native batch scheduler and job launcher and gain a practical understanding of the modifications required to adapt HPC applications to use ML. We will also provide examples where attendees can run real applications that utilise SmartSim. \nAgenda\n10:30 Overview of ML and HPC coupling and introduction to SmartSim\n11:30 Practical use of SmartSim\n12:00 Lunch\n13:00 Connecting to LUMI\n13:30 Hands on practical examples\n15:00 Open session: Discuss using SmartSim in user’s own applications or run more examples\n16:00 Finish \nRegistration\nDeadline: 23 March 2026\, at 23:59 CEST \nClick here to register for the workshop.  \nPlease register by the deadline to secure your place. Spaces are limited and available on a first-come\, first-served basis. Participation in the workshop is free of charge and includes coffee/tea/water and a few snacks during the days. Please be prepared to cover your own lunch costs. \nWe have 48 in-person seats and every participant will receive a quick confirmation on a first-come\, first-served basis so that they can arrange travel. \nAttendees are encouraged to bring their own applications to try with SmartSim in the afternoon session or be prepared consider how SmartSim might be used for their own workflows/applications. \nSmartsim is portable to many HPC systems and has been run on laptops and large clusters. The machine learning backend supports both Nvidia and AMD GPUs and CPU backends are provided for Apple (both Intel and Apple Silicon) and Linux (x86_64). On HPC systems the SmartSim infrastructure library can integrate with Slurm\, PBS and LSF.
URL:https://eurocc-netherlands.nl/calendar/lumi-smartsim-workshop/
LOCATION:SURF Utrecht\, Moreelsepark 48\, Utrecht\, 3511 EP\, Netherlands
CATEGORIES:Event
ATTACH;FMTTYPE=image/png:https://eurocc-netherlands.nl/wp-content/uploads/2026/03/worksho.png
END:VEVENT
END:VCALENDAR