BEGIN:VCALENDAR
VERSION:2.0
PRODID:-//The NCC Netherlands - ECPv6.15.20//NONSGML v1.0//EN
CALSCALE:GREGORIAN
METHOD:PUBLISH
X-WR-CALNAME:The NCC Netherlands
X-ORIGINAL-URL:https://eurocc-netherlands.nl
X-WR-CALDESC:Events for The NCC Netherlands
REFRESH-INTERVAL;VALUE=DURATION:PT1H
X-Robots-Tag:noindex
X-PUBLISHED-TTL:PT1H
BEGIN:VTIMEZONE
TZID:UTC
BEGIN:STANDARD
TZOFFSETFROM:+0000
TZOFFSETTO:+0000
TZNAME:UTC
DTSTART:20220101T000000
END:STANDARD
END:VTIMEZONE
BEGIN:VEVENT
DTSTART;VALUE=DATE:20231110
DTEND;VALUE=DATE:20231111
DTSTAMP:20260419T121246
CREATED:20230830T165221Z
LAST-MODIFIED:20230831T084006Z
UID:556-1699574400-1699660799@eurocc-netherlands.nl
SUMMARY:DUCOMS day
DESCRIPTION:This national conference brings together the community of computational sciences professionals across all disciplines and career levels\, from academia and industry. \n\n\nDate: 10 Nov 2023\nTime: 9.30 until 18.00\nLocation: Jaarbeurs Utrecht\n\n\n\n\n\n\n\n\n\nSign up \n\n\n\nEvent type: Congress\nPrerequisite knowledge: No prior knowledge required\nCosts: 75 euros\n\n\n\n\n\n\n\n\n\nAbout DUCOMS\nDUCOMS day focuses on the strategic focus areas of the national computational sciences agenda\, with interdisciplinary keynotes and parallel sessions on: \n\nUltra-fast computer simulations through machine learning\nData-driven methods\nMultiscale modelling and simulation\nUncertainty analysis in computational sciences\nEnergy-efficient computing\n\nInspirational speakers\nJacco Wallinga (RIVM/UL) | Liesbet Geris (Leuven) | Albrecht Weerts (WUR)\, Francesca Grisoni (TUE) | Siewert Marrink (RUG) | Daan Crommelin (CWI/UvA) | Gennadii Donchyts (Google) \nFor whom?\nComputational scientists from industry or academia\, from all disciplines and from all career levels. \nOrganising Committee\nJohan Mentink (RU) | Haili Hu (SURF) | Ewa Szymanska (FrieslandCampina) | Andre Prins (RIVM) | Peter Bobbert (TUE) | Kees Vuik (TUD). \nScientific Committee\nMarco Verdicchio (SURF) | Arthur van Dam (Deltares) | Fred van Eeuwijk (WUR) | Lambert Schomaker (RUG) | Alfons Hoekstra (UvA) | Linn Leppert (UT).
URL:https://eurocc-netherlands.nl/calendar/ducoms-day/
LOCATION:Jaarbeurs\, Utrecht\, Jaarbeursplein 6\, Utrecht\, 3521 AL
CATEGORIES:Event
ATTACH;FMTTYPE=image/png:https://eurocc-netherlands.nl/wp-content/uploads/2023/08/DUCOMSday1.png
END:VEVENT
END:VCALENDAR