BEGIN:VCALENDAR
VERSION:2.0
PRODID:-//The NCC Netherlands - ECPv6.15.20//NONSGML v1.0//EN
CALSCALE:GREGORIAN
METHOD:PUBLISH
X-ORIGINAL-URL:https://eurocc-netherlands.nl
X-WR-CALDESC:Events for The NCC Netherlands
REFRESH-INTERVAL;VALUE=DURATION:PT1H
X-Robots-Tag:noindex
X-PUBLISHED-TTL:PT1H
BEGIN:VTIMEZONE
TZID:UTC
BEGIN:STANDARD
TZOFFSETFROM:+0000
TZOFFSETTO:+0000
TZNAME:UTC
DTSTART:20220101T000000
END:STANDARD
END:VTIMEZONE
BEGIN:VEVENT
DTSTART;TZID=UTC:20230705T093000
DTEND;TZID=UTC:20230705T170000
DTSTAMP:20260419T182905
CREATED:20230531T123741Z
LAST-MODIFIED:20230531T123907Z
UID:438-1688549400-1688576400@eurocc-netherlands.nl
SUMMARY:National XR Day
DESCRIPTION:What does eXtended Reality (XR) mean for education and research? Find out for yourself during the National XR Day organized by TU Delft Library and SURF. Discover the latest developments and interesting applications in the field of XR\, and learn about the technology behind XR. \n\nsign up\n\n\n5th July 2023\nProgramme\nMore information about the programme you can find on the website of SURF
URL:https://eurocc-netherlands.nl/calendar/national-xr-day/
LOCATION:TU Delft Library\, Prometheusplein 1\, Delft\, Netherlands
CATEGORIES:Event
ATTACH;FMTTYPE=image/png:https://eurocc-netherlands.nl/wp-content/uploads/2023/05/National-XR-Day.png
END:VEVENT
END:VCALENDAR