BEGIN:VCALENDAR
VERSION:2.0
PRODID:-//The NCC Netherlands - ECPv6.15.20//NONSGML v1.0//EN
CALSCALE:GREGORIAN
METHOD:PUBLISH
X-ORIGINAL-URL:https://eurocc-netherlands.nl
X-WR-CALDESC:Events for The NCC Netherlands
REFRESH-INTERVAL;VALUE=DURATION:PT1H
X-Robots-Tag:noindex
X-PUBLISHED-TTL:PT1H
BEGIN:VTIMEZONE
TZID:Europe/Amsterdam
BEGIN:DAYLIGHT
TZOFFSETFROM:+0100
TZOFFSETTO:+0200
TZNAME:CEST
DTSTART:20220327T010000
END:DAYLIGHT
BEGIN:STANDARD
TZOFFSETFROM:+0200
TZOFFSETTO:+0100
TZNAME:CET
DTSTART:20221030T010000
END:STANDARD
BEGIN:DAYLIGHT
TZOFFSETFROM:+0100
TZOFFSETTO:+0200
TZNAME:CEST
DTSTART:20230326T010000
END:DAYLIGHT
BEGIN:STANDARD
TZOFFSETFROM:+0200
TZOFFSETTO:+0100
TZNAME:CET
DTSTART:20231029T010000
END:STANDARD
BEGIN:DAYLIGHT
TZOFFSETFROM:+0100
TZOFFSETTO:+0200
TZNAME:CEST
DTSTART:20240331T010000
END:DAYLIGHT
BEGIN:STANDARD
TZOFFSETFROM:+0200
TZOFFSETTO:+0100
TZNAME:CET
DTSTART:20241027T010000
END:STANDARD
END:VTIMEZONE
BEGIN:VEVENT
DTSTART;TZID=Europe/Amsterdam:20230524T130000
DTEND;TZID=Europe/Amsterdam:20230524T180000
DTSTAMP:20260419T214338
CREATED:20230328T085453Z
LAST-MODIFIED:20230328T090243Z
UID:372-1684933200-1684951200@eurocc-netherlands.nl
SUMMARY:SURF Research Bootcamp
DESCRIPTION:Together with Maastricht University and the MUMC\, SURF is organising the SURF Research Bootcamp. The bootcamp is organised for researchers and research support staff. An interesting program awaits\, featuring exciting hands-on workshops and an informative session. This is an free\, on-site event at Maastricht University. \n  \nProgramme\nFrom 13:00 – 16:00\, you can attend a workshop or an information session. You can choose from three workshops and one information session. \nFrom 16.00 – 18.00 we will organise drinks to conclude the SURF Bootcamp. \nSome sessions have a participant limit\, so register soon. Please note that the medium of communication for this event is English\, and it is exclusively an on-site event.  \nWorkshops and information session\n1. Workshop Ldot\, a study management system developed by Maastricht University. \nLdot is an app that can securely store participant data for scientific research and simplify logistics. This session will discuss experiences with storing data and logistical challenges\, and demonstrate Ldot’s functionality. The coordinator of the Cardiac Tissue Repository\, Michiel Henkens\, will explain how Ldot has helped with logistics\, and attendees can try out Ldot in different use cases. \n2. Personal Health Train (PHT) workshop \nThis session introduces the Personal Health Train (PHT) concept and includes a hands-on session. The PHT brings algorithms to where the data is\, rather than centralizing the data. It allows controlled access to diverse data sources while ensuring privacy and patient engagement. Health data is made FAIR before being stored in stations controlled by individuals\, physicians\, hospitals\, biobanks\, and data repositories. \n3. Workshop on building a virtual research environment (VRE) with SURF Research Cloud \nSURF Research Cloud is a portal for efficiently building virtual research workplaces. You can use pre-configured workspaces and datasets or add your own datasets. This session is usefull for anyone who wants to use a flexible and customized environment to run powerful applications. It is also a useful kickstarter for current HPC Cloud users. \n4. Support4Research: Presentation of various SURF services for Research Data Management \nThe focus of this session will be on various SURF services for research\, particularly successful use cases achieved through collaboration with Maastricht University and the UMC. Services such as SURF Research Access Management\, a range of Research Data Management services (including iRODS\, Yoda\, SURF Research Drive and Data archive) and compute services will be presented. Don’t miss the chance to discover how these services can take your research to the next level!
URL:https://eurocc-netherlands.nl/calendar/surf-research-bootcamp/
CATEGORIES:Event
ATTACH;FMTTYPE=image/jpeg:https://eurocc-netherlands.nl/wp-content/uploads/2023/03/SURF-Research-Bootcamp-2023.jpeg
END:VEVENT
END:VCALENDAR