BEGIN:VCALENDAR
VERSION:2.0
PRODID:-//The NCC Netherlands - ECPv6.15.20//NONSGML v1.0//EN
CALSCALE:GREGORIAN
METHOD:PUBLISH
X-WR-CALNAME:The NCC Netherlands
X-ORIGINAL-URL:https://eurocc-netherlands.nl
X-WR-CALDESC:Events for The NCC Netherlands
REFRESH-INTERVAL;VALUE=DURATION:PT1H
X-Robots-Tag:noindex
X-PUBLISHED-TTL:PT1H
BEGIN:VTIMEZONE
TZID:Europe/Moscow
BEGIN:STANDARD
TZOFFSETFROM:+0300
TZOFFSETTO:+0300
TZNAME:MSK
DTSTART:20220101T000000
END:STANDARD
END:VTIMEZONE
BEGIN:VTIMEZONE
TZID:Europe/Amsterdam
BEGIN:DAYLIGHT
TZOFFSETFROM:+0100
TZOFFSETTO:+0200
TZNAME:CEST
DTSTART:20220327T010000
END:DAYLIGHT
BEGIN:STANDARD
TZOFFSETFROM:+0200
TZOFFSETTO:+0100
TZNAME:CET
DTSTART:20221030T010000
END:STANDARD
BEGIN:DAYLIGHT
TZOFFSETFROM:+0100
TZOFFSETTO:+0200
TZNAME:CEST
DTSTART:20230326T010000
END:DAYLIGHT
BEGIN:STANDARD
TZOFFSETFROM:+0200
TZOFFSETTO:+0100
TZNAME:CET
DTSTART:20231029T010000
END:STANDARD
BEGIN:DAYLIGHT
TZOFFSETFROM:+0100
TZOFFSETTO:+0200
TZNAME:CEST
DTSTART:20240331T010000
END:DAYLIGHT
BEGIN:STANDARD
TZOFFSETFROM:+0200
TZOFFSETTO:+0100
TZNAME:CET
DTSTART:20241027T010000
END:STANDARD
END:VTIMEZONE
BEGIN:VEVENT
DTSTART;TZID=Europe/Moscow:20230426T080000
DTEND;TZID=Europe/Moscow:20230428T170000
DTSTAMP:20260419T234248
CREATED:20230320T111656Z
LAST-MODIFIED:20230321T160136Z
UID:291-1682496000-1682701200@eurocc-netherlands.nl
SUMMARY:Spring School in Computational Chemistry
DESCRIPTION:The Spring School provides a comprehensive\, tutorial-style\, hands-on\, introductory and intermediate-level treatment of the essential methods for molecular modeling and computational chemistry using modern supercomputers. During 3 days you will learn more about:* Classical molecular dynamics\, intro + hands on (1 day)* Electronic structure theory\, intro + hands on (1 day)* Machine learning in chemistry\, intro + hands on* Special topics on enhanced sampling techniques and visualizationThe school is a must for graduate students in the field\, providing an overview of “what can be calculated and how should it be done”. It’s also a great opportunity to build your professional network! The intense schedule might also be suitable for an industry representative to get a hands-on introduction to modelling. To get an idea of the depth in which the topics are covered\, take a look at the materials from the 2020 School or a blog entry of the 2019 School.The school has a participation fee of 120 EUR (+ VAT). It covers the lectures\, coffees\, lunches\, poster session snacks\, and the sauna + dinner.The first registration DL is 26th March\, but if seats are free beyond it\, registering will be possible also later.A more detailed description\, with links to previous Schools and registration at:https://ssl.eventilla.com/sscc-2023
URL:https://eurocc-netherlands.nl/calendar/spring-school-in-computational-chemistry/
CATEGORIES:Training
ATTACH;FMTTYPE=image/jpeg:https://eurocc-netherlands.nl/wp-content/uploads/2023/03/Summerschool.jpeg
END:VEVENT
BEGIN:VEVENT
DTSTART;TZID=Europe/Amsterdam:20230426T130000
DTEND;TZID=Europe/Amsterdam:20230426T143000
DTSTAMP:20260419T234248
CREATED:20230223T161301Z
LAST-MODIFIED:20230223T161301Z
UID:188-1682514000-1682519400@eurocc-netherlands.nl
SUMMARY:Digital Competence Centre projects 2022 presentation (III)
DESCRIPTION:The 10 initiatives taken up through the Digital Competence Centres in 2022 include interesting projects in the areas of virtual data assistance\, Yoda\, SRAM and text mining. In this third and final information session\, we will interactively share the results of three projects. \n  \nRegistration in advance is not necessary\, you are cordially invited to join online! \nPresentations 26 April\n\n\n\n1. FY4C – FAIR Yoda for communities\nLeiden University\, Utrecht University\, Vrije Universiteit\, Wageningen University and Erasmus University Rotterdam\n\n\n2. Validation Anonymisation Tooling (VAT)\nAmsterdam UMC\n\n\n3. Data Stations\nSANS-KNAW\n\n\n\n* Note: the presentations are in English \nBackground\nThe digitisation of science is noticeable in all fields and disciplines. The implementation plan “Investments in digital research infrastructure” describes how Digital Competence Centres (DCCs) are to play a role in pooling and sharing knowledge and expertise in the field of digitisation. SURF has an important role in technically facilitating and coordinating the secure\, federated system to interconnect the DCCs and in supporting the DCCs in knowledge sharing. SURF supports the DCCs\, including by issuing calls for proposals\, organising a SURF Research Bootcamp and facilitating the DCC-IN network. \nFor whom?\nAll those interested in DCCs. Institutions not affiliated to SURF and other interested parties are also welcome to join! \nParticipation\nRegistration in advance is not necessary: you can join online on the day itself. See the MS Teams link for this third session on 26 April on this page. \nContact\nMore background information? Email dcc-support@surf.nl.
URL:https://eurocc-netherlands.nl/calendar/digital-competence-centre-projects-2022-presentation-iii/
LOCATION:Webinar
CATEGORIES:Seminar
END:VEVENT
END:VCALENDAR