BEGIN:VCALENDAR
VERSION:2.0
PRODID:-//The NCC Netherlands - ECPv6.15.20//NONSGML v1.0//EN
CALSCALE:GREGORIAN
METHOD:PUBLISH
X-ORIGINAL-URL:https://eurocc-netherlands.nl
X-WR-CALDESC:Events for The NCC Netherlands
REFRESH-INTERVAL;VALUE=DURATION:PT1H
X-Robots-Tag:noindex
X-PUBLISHED-TTL:PT1H
BEGIN:VTIMEZONE
TZID:UTC
BEGIN:STANDARD
TZOFFSETFROM:+0000
TZOFFSETTO:+0000
TZNAME:UTC
DTSTART:20220101T000000
END:STANDARD
END:VTIMEZONE
BEGIN:VEVENT
DTSTART;TZID=UTC:20230322T140000
DTEND;TZID=UTC:20230322T150000
DTSTAMP:20260420T012801
CREATED:20230310T091727Z
LAST-MODIFIED:20230310T092135Z
UID:204-1679493600-1679497200@eurocc-netherlands.nl
SUMMARY:Developer Conference: NVIDIA GTC - Addressing the AI Skills Gap
DESCRIPTION:Demand for AI and HPC programming skills is booming. As demand grows\, a skill gap is forming. \nBring your questions to the panel “Addressing the AI Skills Gap” on March 22 at 2pm CET with DIGITALEUROPE\,  TechUK\, MinnaLearn\, BME and EuroCC at #GTC23 as we discuss the most in-demand skills in the market\, and options for bridging the skills gap. \n  \nDemand for AI\, accelerated computing\, and HPC programming skills is booming. And as this demand grows\, a notable skill gap is forming. If you’re a business leader who’s facing these issues or a developer planning next career steps\, join this… \nSpeakers \nKevin McFall\,  Master Instructor\, NVIDIA \nViivi Pitkanen\, Co-founder & Head of Growth\, MinnaLearn \nMartina Blazkova\, PhD\, Senior Education and Training Officer\, Barcelona Supercomputing Center – Centro Nacional de Supercomputación \nBálint Gyires-Tóth\, PhD\, Associate Professor\, Budapest University of Technology and Economics \nHelena Lovegrove\, Director of Operations and Projects\, DIGITALEUROPE \nNimmi Patel\, Head of Skills\, Talent and Diversity\, techUK \nIndustry: All Industries\nTopic: Deep Learning – Frameworks \nWednesday\, Mar 22 2:00 PM – 3:00 PM CET \n  \nRegister > \nGTC Developer Conference:\nExplore Breakthroughs in AI\, Accelerated Computing\, and Beyond at GTC\nThe Conference for the Era of AI and the Metaverse
URL:https://eurocc-netherlands.nl/calendar/developer-conferance-nvidia-gtc-addressing-the-ai-skills-gap/
CATEGORIES:Event
ATTACH;FMTTYPE=image/png:https://eurocc-netherlands.nl/wp-content/uploads/2023/03/thumbnail_SE52129-session-content-2048x1024-1.png
END:VEVENT
END:VCALENDAR